BEGIN:VCALENDAR
VERSION:2.0
PRODID:-//Contratero//ES
CALSCALE:GREGORIAN
METHOD:PUBLISH
BEGIN:VEVENT
UID:3033/2022 - 2@contratero.es
DTSTAMP:20260423T103324Z
DTSTART:20230102T235959
DTEND:20230103T005959
SUMMARY:Cierre: prestación del servicio de sistema informático par
DESCRIPTION:prestación del servicio de sistema informático para el área económica del ayuntamiento de noja\\n\\nOrganismo: Alcaldía del Ayuntamiento de Noja\\n\\nVer en Contratero: https://contratero.es/contracts/3033/2022 - 2
URL:https://contratero.es/contracts/3033/2022 - 2
STATUS:CONFIRMED
BEGIN:VALARM
TRIGGER:-P1D
ACTION:DISPLAY
DESCRIPTION:Recordatorio: prestación del servicio de sis
END:VALARM
END:VEVENT
END:VCALENDAR